BEGIN:VCALENDAR
VERSION:2.0
PRODID:-//eventon.com NONSGML v1.0//EN
CALSCALE:GREGORIAN
METHOD:PUBLISH
BEGIN:VEVENT
UID:69e7327c50510
DTSTAMP:20260421T081700Z
DTSTART:20200109
DTEND:20200110
LOCATION:
SUMMARY:Thirsty Thursday
DESCRIPTION:Everyone that comes in on Thursday will get a free small sweet 
 tea with their admission!\nhttps://bizzybeeplay.com/ev/thirsty-thursday/
URL:https://bizzybeeplay.com/ev/thirsty-thursday/
END:VEVENT
END:VCALENDAR