BEGIN:VCALENDAR
VERSION:2.0
PRODID:-//eventon.com NONSGML v1.0//EN
CALSCALE:GREGORIAN
METHOD:PUBLISH
BEGIN:VEVENT
UID:69ea379796738
DTSTAMP:20260423T151535Z
DTSTART:20200619T220000Z
DTEND:20200620T003000Z
LOCATION:
SUMMARY:Bingo & Beers
DESCRIPTION:First\,  there was Wine &amp; Design. Now\,  join us for Bingo 
 &amp; Beers. A family friendly event where the kids AND adults get to play!
  Bring the kids and we will supervise- They can play and run while the adul
 ts get to enjoy some adult company and entertainment. We will[..]\nhttps://
 bizzybeeplay.com/ev/bingo-beers-copy/
URL:https://bizzybeeplay.com/ev/bingo-beers-copy/
END:VEVENT
END:VCALENDAR