BEGIN:VCALENDAR
VERSION:2.0
PRODID:-//eventon.com NONSGML v1.0//EN
CALSCALE:GREGORIAN
METHOD:PUBLISH
BEGIN:VEVENT
UID:69e4cfda253c6
DTSTAMP:20260419T125138Z
DTSTART:20200717T130000Z
DTEND:20200717T163000Z
LOCATION:
SUMMARY:Week 2 Summer Camp: Pirates & Mermaids
DESCRIPTION:???????????? ??? ?????? ???? ??? ?????????! Our drop-off day ca
 mp will be split into weekly sessions. Each session will be held on Monday\
 ,  Wednesday\,  and Friday from 9:00am-12:30pm. The cost per week is $125. 
 There is a 15% discount for siblings. Use code JULYCAMP2020 for sibling dis
 count at checkout. A[..]\nhttps://bizzybeeplay.com/ev/week-2-summer-camp-pi
 rates-mermaids/var/ri-2.l-L1
URL:https://bizzybeeplay.com/ev/week-2-summer-camp-pirates-mermaids/var/ri-2.l-L1
END:VEVENT
END:VCALENDAR