BEGIN:VCALENDAR
VERSION:2.0
PRODID:-//eventon.com NONSGML v1.0//EN
CALSCALE:GREGORIAN
METHOD:PUBLISH
BEGIN:VEVENT
UID:69e4d54cc6243
DTSTAMP:20260419T131452Z
DTSTART:20201101
DTEND:20201201
LOCATION:
SUMMARY:Camp Wannabe-a-Bee
DESCRIPTION:Who’s ready to rough-it in the wilderness? Come on a wilderne
 ss adventure with Bizzy Bee during the month of November! We’ve got camp 
 all set up for you in our make-shift forest camp site!\nhttps://bizzybeepla
 y.com/ev/camp-wannabe-a-bee/
URL:https://bizzybeeplay.com/ev/camp-wannabe-a-bee/
END:VEVENT
END:VCALENDAR