BEGIN:VCALENDAR
VERSION:2.0
PRODID:-//eventon.com NONSGML v1.0//EN
CALSCALE:GREGORIAN
METHOD:PUBLISH
BEGIN:VEVENT
UID:69e78886e2505
DTSTAMP:20260421T142406Z
DTSTART:20210409T200000Z
DTEND:20210410T003000Z
LOCATION:
SUMMARY:SPRING BREAK CAMP
DESCRIPTION:Our drop-off day camp will be held on Monday through Friday fro
 m 9:00am-1:30pm. The cost for the week is $200. There is a 15% discount for
  siblings. During each day we will be providing open play before general ho
 urs\,  group activities like arts\,  crafts\,  story times\,  STEM activiti
 es\,  sensory crafts\, [..]\nhttps://bizzybeeplay.com/ev/spring-break-camp/
 var/ri-4.l-L1
URL:https://bizzybeeplay.com/ev/spring-break-camp/var/ri-4.l-L1
END:VEVENT
END:VCALENDAR