BEGIN:VCALENDAR
VERSION:2.0
PRODID:-//eventon.com NONSGML v1.0//EN
CALSCALE:GREGORIAN
METHOD:PUBLISH
BEGIN:VEVENT
UID:69e4a31021ccf
DTSTAMP:20260419T094032Z
DTSTART:20220312T233000Z
DTEND:20220313T013000Z
LOCATION:
SUMMARY:Bingo & Beers
DESCRIPTION:Join us for Bingo &amp; Beers. A family friendly event where th
 e kids AND adults get to play! Bring the kids and we will supervise- They c
 an play and run out all their crazies\,  while the adults get to enjoy some
  adult company and entertainment. We will be hosting several[..]\nhttps://b
 izzybeeplay.com/ev/bingo-beers-3/
URL:https://bizzybeeplay.com/ev/bingo-beers-3/
END:VEVENT
END:VCALENDAR