BEGIN:VCALENDAR
VERSION:2.0
PRODID:-//eventon.com NONSGML v1.0//EN
CALSCALE:GREGORIAN
METHOD:PUBLISH
BEGIN:VEVENT
UID:69e61e33dc752
DTSTAMP:20260420T123811Z
DTSTART:20230710
DTEND:20230711
LOCATION:
SUMMARY:Make It Monday
DESCRIPTION:Join us for a craft project! Every Monday\,  we are offering cr
 aft time from 11am-1pm and 3pm &#8211; 5pm. Make It Monday is free with gen
 eral admission.\nhttps://bizzybeeplay.com/ev/make-it-monday/var/ri-2.l-L1
URL:https://bizzybeeplay.com/ev/make-it-monday/var/ri-2.l-L1
END:VEVENT
END:VCALENDAR