BEGIN:VCALENDAR
VERSION:2.0
PRODID:-//eventon.com NONSGML v1.0//EN
CALSCALE:GREGORIAN
METHOD:PUBLISH
BEGIN:VEVENT
UID:69e5bc20d9b55
DTSTAMP:20260420T053944Z
DTSTART:20241001T220000Z
DTEND:20241001T223000Z
LOCATION:
SUMMARY:StoryTime Tuesday
DESCRIPTION:Each Tuesday at 11am\,  we offer a storytime event that include
 s a read aloud of a children&#8217;s book and a craft related to the story.
  Storytime is great for families with kids of ALL ages. Yes\,  it&#8217;s t
 otally fine for your very young kiddos to make noise\,  walk around\,  wand
 er[..]\nhttps://bizzybeeplay.com/ev/storytime-tuesday-2/var/ri-25.l-L1
URL:https://bizzybeeplay.com/ev/storytime-tuesday-2/var/ri-25.l-L1
END:VEVENT
END:VCALENDAR