BEGIN:VCALENDAR
VERSION:2.0
PRODID:-//eventon.com NONSGML v1.0//EN
CALSCALE:GREGORIAN
METHOD:PUBLISH
BEGIN:VEVENT
UID:69e733ef7d340
DTSTAMP:20260421T082311Z
DTSTART:20231213T110100Z
DTEND:20231214T105900Z
LOCATION:
SUMMARY:12 Days of Christmas Kickoff
DESCRIPTION:Check out what we have planned for this holiday season! 12 Days
  of Christmas starts 12/13/23!\nhttps://bizzybeeplay.com/ev/12-days-of-chri
 stmas-kickoff/
URL:https://bizzybeeplay.com/ev/12-days-of-christmas-kickoff/
END:VEVENT
END:VCALENDAR