BEGIN:VCALENDAR
VERSION:2.0
PRODID:-//eventon.com NONSGML v1.0//EN
CALSCALE:GREGORIAN
METHOD:PUBLISH
BEGIN:VEVENT
UID:69ed35dc2f1c6
DTSTAMP:20260425T214500Z
DTSTART:20240415T220000Z
DTEND:20240415T230000Z
LOCATION:
SUMMARY:Make It Monday-Farm Week
DESCRIPTION:A farm theme activity this week: Stop by at 11 am for a free cr
 aft project with your daily admission! Follow us on social media for more i
 nfo!\nhttps://bizzybeeplay.com/ev/make-it-monday-farm-week/
URL:https://bizzybeeplay.com/ev/make-it-monday-farm-week/
END:VEVENT
END:VCALENDAR