BEGIN:VCALENDAR
VERSION:2.0
PRODID:-//eventon.com NONSGML v1.0//EN
CALSCALE:GREGORIAN
METHOD:PUBLISH
BEGIN:VEVENT
UID:69e7327c50405
DTSTAMP:20260421T081700Z
DTSTART:20240419T213000Z
DTEND:20240419T220000Z
LOCATION:
SUMMARY:Fun Friday STEAM Theme for Farm Week
DESCRIPTION:Join us for a STEAM THEME activity geared toward farm life! Our
  Fun Friday activity starts at 10:30 am and is included in your daily admis
 sion. Follow us on social for more info! What is STEAM? Science\,  technolo
 gy\,  engineering\,  art and math! Our activity for the day focuses on one[
 ..]\nhttps://bizzybeeplay.com/ev/fun-friday-steam-theme-for-farm-week/
URL:https://bizzybeeplay.com/ev/fun-friday-steam-theme-for-farm-week/
END:VEVENT
END:VCALENDAR