BEGIN:VCALENDAR
VERSION:2.0
PRODID:-//eventon.com NONSGML v1.0//EN
CALSCALE:GREGORIAN
METHOD:PUBLISH
BEGIN:VEVENT
UID:69ed08b4828b7
DTSTAMP:20260425T183220Z
DTSTART:20240422T220000Z
DTEND:20240422T230000Z
LOCATION:
SUMMARY:Make It Monday-Space Week
DESCRIPTION:A space theme activity this week: Stop by at 11 am for a free c
 raft project with your daily admission! Follow us on social media for more 
 info!\nhttps://bizzybeeplay.com/ev/make-it-monday-space-week/
URL:https://bizzybeeplay.com/ev/make-it-monday-space-week/
END:VEVENT
END:VCALENDAR