BEGIN:VCALENDAR
VERSION:2.0
PRODID:-//eventon.com NONSGML v1.0//EN
CALSCALE:GREGORIAN
METHOD:PUBLISH
BEGIN:VEVENT
UID:69e4a3101d555
DTSTAMP:20260419T094032Z
DTSTART:20240423T220000Z
DTEND:20240423T230000Z
LOCATION:
SUMMARY:Storytime Tuesday - Space Week
DESCRIPTION:Our weekly storytime will be Space themed for space week! We wi
 ll read a story and have a space themed craft available. This event is incl
 uded with daily general admission. Storytime Tuesday starts at 11 am. Follo
 w us on social for more info!\nhttps://bizzybeeplay.com/ev/storytime-tuesda
 y-space-week/
URL:https://bizzybeeplay.com/ev/storytime-tuesday-space-week/
END:VEVENT
END:VCALENDAR