BEGIN:VCALENDAR
VERSION:2.0
PRODID:-//eventon.com NONSGML v1.0//EN
CALSCALE:GREGORIAN
METHOD:PUBLISH
BEGIN:VEVENT
UID:69e5fd855785b
DTSTAMP:20260420T101845Z
DTSTART:20240525T220000Z
DTEND:20240526T013000Z
LOCATION:
SUMMARY:Parent's Night Out - Bingo & Bluey Special
DESCRIPTION:Bingo &amp; Bluey Special Bingo &amp; Bluey will be stopping by
  to play a few games\,  dance\,  and hang out with the Bizzy Bee crew! Bizz
 y Bee is offering the opportunity to spend a night out (or in!) while your 
 child enjoys private\,  after-hours exploration of our play area. Your[..]\
 nhttps://bizzybeeplay.com/ev/pnomay2/
URL:https://bizzybeeplay.com/ev/pnomay2/
END:VEVENT
END:VCALENDAR