BEGIN:VCALENDAR
VERSION:2.0
PRODID:-//eventon.com NONSGML v1.0//EN
CALSCALE:GREGORIAN
METHOD:PUBLISH
BEGIN:VEVENT
UID:69e4d542dd88a
DTSTAMP:20260419T131442Z
DTSTART:20240522T223000Z
DTEND:20240522T111500Z
LOCATION:
SUMMARY:Making Pavlova
DESCRIPTION:You know you are curious! What is pavlova? What does it taste l
 ike? Join us during Bluey &amp; Bingo week and find out. We are making mini
  pavlovas! You do the customizing and tasting with our toppings bar! Cost f
 or this event is $25 per child and will include all[..]\nhttps://bizzybeepl
 ay.com/ev/making-pavlova/
URL:https://bizzybeeplay.com/ev/making-pavlova/
END:VEVENT
END:VCALENDAR