BEGIN:VCALENDAR
VERSION:2.0
PRODID:-//eventon.com NONSGML v1.0//EN
CALSCALE:GREGORIAN
METHOD:PUBLISH
BEGIN:VEVENT
UID:69e50031aa69b
DTSTAMP:20260419T161753Z
DTSTART:20250603T110000Z
DTEND:20250603T113000Z
LOCATION:
SUMMARY:Storytime Tuesday
DESCRIPTION:Each Tuesday at 11am\,  we offer a storytime event that include
 s a read aloud of a children&#8217;s book and a craft related to the story.
  Storytime is great for families with kids of ALL ages. Yes\,  it&#8217;s t
 otally fine for your very young kiddos to make noise\,  walk around\,  wand
 er[..]\nhttps://bizzybeeplay.com/ev/storytime-tuesday-3/var/ri-4.l-L1
URL:https://bizzybeeplay.com/ev/storytime-tuesday-3/var/ri-4.l-L1
END:VEVENT
END:VCALENDAR